BEGIN:VCALENDAR
VERSION:2.0
PRODID:-//Cercle Horticole des 3 Frontières - ECPv6.15.16//NONSGML v1.0//EN
CALSCALE:GREGORIAN
METHOD:PUBLISH
X-WR-CALNAME:Cercle Horticole des 3 Frontières
X-ORIGINAL-URL:https://ch3f-angel.clicparclic.eu
X-WR-CALDESC:Évènements pour Cercle Horticole des 3 Frontières
REFRESH-INTERVAL;VALUE=DURATION:PT1H
X-Robots-Tag:noindex
X-PUBLISHED-TTL:PT1H
BEGIN:VTIMEZONE
TZID:Europe/Brussels
BEGIN:DAYLIGHT
TZOFFSETFROM:+0100
TZOFFSETTO:+0200
TZNAME:CEST
DTSTART:20250330T010000
END:DAYLIGHT
BEGIN:STANDARD
TZOFFSETFROM:+0200
TZOFFSETTO:+0100
TZNAME:CET
DTSTART:20251026T010000
END:STANDARD
BEGIN:DAYLIGHT
TZOFFSETFROM:+0100
TZOFFSETTO:+0200
TZNAME:CEST
DTSTART:20260329T010000
END:DAYLIGHT
BEGIN:STANDARD
TZOFFSETFROM:+0200
TZOFFSETTO:+0100
TZNAME:CET
DTSTART:20261025T010000
END:STANDARD
BEGIN:DAYLIGHT
TZOFFSETFROM:+0100
TZOFFSETTO:+0200
TZNAME:CEST
DTSTART:20270328T010000
END:DAYLIGHT
BEGIN:STANDARD
TZOFFSETFROM:+0200
TZOFFSETTO:+0100
TZNAME:CET
DTSTART:20271031T010000
END:STANDARD
END:VTIMEZONE
BEGIN:VEVENT
DTSTART;TZID=Europe/Brussels:20260203T193000
DTEND;TZID=Europe/Brussels:20260203T193000
DTSTAMP:20260419T231021
CREATED:20251204T125719Z
LAST-MODIFIED:20251204T130103Z
UID:241-1770147000-1770147000@ch3f-angel.clicparclic.eu
SUMMARY:Conférences "La vie secrète des arbres"
DESCRIPTION:La vie des arbres ne se résume pas à ce que nos yeux perçoivent. Bien au delà de leurs branches et de leur feuillage\, ils dissimulent un univers riche\, complexe et souvent méconnu. Saviez-vous que les arbres ont développé une panoplie de stratégie pour faire face aux agressions\, à la concurence et aux conditions problématiques? Cette conférence vous invite à un voyage extraordinaire au cœur  des adaptations  et résiliences des arbres.\nPar Françoise Baus\, professeur d’écologie forestière\, de dendrologie\, d’éthologie. Auteur de « Arboretums et Jardins botaniques de Belgique »\, Ed. Aparté
URL:https://ch3f-angel.clicparclic.eu/event/conferences-la-vie-secrete-des-arbres/
LOCATION:Salon Gris\, Rue Servais 8\, SPA\, 4900\, Belgium
CATEGORIES:Conférences
ATTACH;FMTTYPE=image/jpeg:https://ch3f-angel.clicparclic.eu/wp-content/uploads/agenda-conference-vie-arbres-pixabay.jpg
END:VEVENT
END:VCALENDAR